BEGIN:VCALENDAR
VERSION:2.0
PRODID:-//eventon.com NONSGML v1.0//EN
CALSCALE:GREGORIAN
METHOD:PUBLISH
BEGIN:VEVENT
UID:69eb8aa22b9f1
DTSTAMP:20260424T112210
DTSTART:20241217T100000Z
DTEND:20241217T110000Z
TZID:America/New_York
LOCATION:
SUMMARY:Parent & Tot Hockey
DESCRIPTION:Parent/Tot Hockey is a great way to introduce your tot to the ice while being able to skate with them! They will learn to stand and support themselves on the ice\,  fall down and get back up\,  and general hockey skills from their guardian. Children must be 5 and under.[..]\nhttps://www.winterhurstice.com/events/parent-tot-hockey-26/
URL:https://www.winterhurstice.com/events/parent-tot-hockey-26/
END:VEVENT
END:VCALENDAR