BEGIN:VCALENDAR
VERSION:2.0
PRODID:-//eventon.com NONSGML v1.0//EN
CALSCALE:GREGORIAN
METHOD:PUBLISH
BEGIN:VEVENT
UID:69e7486ba23f6
DTSTAMP:20260421T055035
DTSTART:20260418T121000Z
DTEND:20260418T134000Z
TZID:America/New_York
LOCATION:
SUMMARY:Saturday Skate
DESCRIPTION:Saturday Skate Make Saturdays special with a skating session at Winterhurst. The weekend excitement continues with our Saturday Skate\,  designed for skaters of all ages to enjoy time on the ice. Whether you’re practicing your moves or just out for a fun time\,  Saturday Skate is a great choice for[..]\nhttps://www.winterhurstice.com/events/saturday-skate-46/
URL:https://www.winterhurstice.com/events/saturday-skate-46/
END:VEVENT
END:VCALENDAR