BEGIN:VCALENDAR
VERSION:2.0
PRODID:-//eventon.com NONSGML v1.0//EN
CALSCALE:GREGORIAN
METHOD:PUBLISH
BEGIN:VEVENT
UID:69e4e7cd0bcf8
DTSTAMP:20260419T103349
DTSTART:20260807T190000Z
DTEND:20260807T210000Z
TZID:America/New_York
LOCATION:
SUMMARY:Friday Night Skate
DESCRIPTION:Friday Night Skate Start the weekend on a high note with our lively Friday Night Skate! With upbeat music and a fun atmosphere\,  it’s the perfect way to celebrate Friday night. Bring your friends or meet new ones as you enjoy a night of skating and good vibes on the ice. Friday[..]\nhttps://www.winterhurstice.com/events/friday-night-skate-53/
URL:https://www.winterhurstice.com/events/friday-night-skate-53/
END:VEVENT
END:VCALENDAR