BEGIN:VCALENDAR
VERSION:2.0
PRODID:-//eventon.com NONSGML v1.0//EN
CALSCALE:GREGORIAN
METHOD:PUBLISH
BEGIN:VEVENT
UID:69e4e6e3c2656
DTSTAMP:20260419T102955
DTSTART:20260731T200000Z
DTEND:20260731T211500Z
TZID:America/New_York
LOCATION:
SUMMARY:Friday Night Adult Drop In Hockey
DESCRIPTION:Schedule: Friday Night 9:15 PM -10:30 PM Pricing:  All: $15 Full equipment is required. Must be 18 and over. Grab your friends and join us on the ice!\nhttps://www.winterhurstice.com/events/friday-night-adult-drop-in-hockey-29/
URL:https://www.winterhurstice.com/events/friday-night-adult-drop-in-hockey-29/
END:VEVENT
END:VCALENDAR